BEGIN:VCALENDAR
PRODID:-//kirchenweb.ch gmbh//veranstaltungsausgabe v2.0//DE
VERSION:2.0
METHOD:PUBLISH
BEGIN:VEVENT
DTSTART:20260526T143000Z
DTEND:20260526T163000Z
LOCATION:Kirchenhaus Affoltern\, Seewadelstrasse 13\, 8910 Affoltern am
  Albis
TRANSP:OPAQUE
SEQUENCE:0
UID:5098-veranstaltung@kath-affoltern.ch
DTSTAMP:20250415T154458Z
DESCRIPTION:Treffen der 6. Klasse\n\nKontakt: Katechetin Valentina
  Filipovic\, Seewadelstrasse 13\, 8910 Affoltern am Albis\,
  valentina.filipovic@kath-affoltern.ch\, 043 322 61 18\n\nWeitere Infos:
  https://www.kath-affoltern.ch/veranstaltung/5098
SUMMARY:B09: Pfingsten: Der Kickstart für deine innere Power!
PRIORITY:5
X-MICROSOFT-CDO-IMPORTANCE:1
CLASS:PUBLIC
END:VEVENT
END:VCALENDAR
