BEGIN:VCALENDAR
PRODID:-//kirchenweb.ch gmbh//veranstaltungsausgabe v2.0//DE
VERSION:2.0
METHOD:PUBLISH
BEGIN:VEVENT
DTSTART:20260610T113000Z
DTEND:20260610T150000Z
LOCATION:Extern\, \,
TRANSP:OPAQUE
SEQUENCE:0
UID:5100-veranstaltung@kath-affoltern.ch
DTSTAMP:20250415T154450Z
DESCRIPTION:Abschluss-Ausflug der Treffen der 6. Klasse\n\nKontakt:
  Katechetin Valentina Filipovic\, Seewadelstrasse 13\, 8910 Affoltern am
  Albis\, valentina.filipovic@kath-affoltern.ch\, 043 322 61 18\n\nWeitere
  Infos: https://www.kath-affoltern.ch/veranstaltung/5100
SUMMARY:B10: Abschlussausflug
PRIORITY:5
X-MICROSOFT-CDO-IMPORTANCE:1
CLASS:PUBLIC
END:VEVENT
END:VCALENDAR
