BEGIN:VCALENDAR
PRODID:-//kirchenweb.ch gmbh//veranstaltungsausgabe v2.0//DE
VERSION:2.0
METHOD:PUBLISH
BEGIN:VEVENT
DTSTART:20260530T070000Z
DTEND:20260530T140000Z
LOCATION:Extern\, \,
TRANSP:OPAQUE
SEQUENCE:0
UID:5102-veranstaltung@kath-affoltern.ch
DTSTAMP:20250417T072308Z
DESCRIPTION:Treffen Wahlfachangebot Oberstufe\n\nKontakt: Katechetin 
  Mateja Kutlesa\, Seewadelstrasse 13\, 8910 Affoltern am Albis\,
  mateja.kutlesa@kath-affoltern.ch\, 043 322 61 11\n\nWeitere Infos:
  https://www.kath-affoltern.ch/veranstaltung/5102
SUMMARY:C08 Zwischen Himmel und Erde
PRIORITY:5
X-MICROSOFT-CDO-IMPORTANCE:1
CLASS:PUBLIC
END:VEVENT
END:VCALENDAR
