BEGIN:VCALENDAR
PRODID:-//kirchenweb.ch gmbh//veranstaltungsausgabe v2.0//DE
VERSION:2.0
METHOD:PUBLISH
BEGIN:VEVENT
DTSTART:20260512T170000Z
DTEND:20260512T190000Z
LOCATION:Kirchenhaus Affoltern\, Seewadelstrasse 13\, 8910 Affoltern am
  Albis
TRANSP:OPAQUE
SEQUENCE:0
UID:5196-veranstaltung@kath-affoltern.ch
DTSTAMP:20260319T073518Z
DESCRIPTION:Kontakt: Sekretariat Ob\nSekretariat Obfelden\, Bachstrasse
  18\, 8912 Obfelden\, sekretariat.obfelden@kath-affoltern.ch\, 044 761 99
  19\n\nWeitere Infos: https://www.kath-affoltern.ch/veranstaltung/5196
SUMMARY:Treffen Firmweg
PRIORITY:5
X-MICROSOFT-CDO-IMPORTANCE:1
CLASS:PUBLIC
END:VEVENT
END:VCALENDAR
