BEGIN:VCALENDAR
PRODID:-//kirchenweb.ch gmbh//veranstaltungsausgabe v2.0//DE
VERSION:2.0
METHOD:PUBLISH
BEGIN:VEVENT
DTSTART:20260424T071500Z
DTEND:20260424T081500Z
LOCATION:Kath. Kirche St. Josef\, Seewadelstrasse 13\, 8910 Affoltern am
  Albis
TRANSP:OPAQUE
SEQUENCE:0
UID:5214-veranstaltung@kath-affoltern.ch
DTSTAMP:20260410T130914Z
DESCRIPTION:Kontakt: Thomas Plappallil\n\nWeitere Infos:
  https://www.kath-affoltern.ch/veranstaltung/5214
SUMMARY:Eucharistiefeier in Affoltern
PRIORITY:5
X-MICROSOFT-CDO-IMPORTANCE:1
CLASS:PUBLIC
END:VEVENT
END:VCALENDAR
