BEGIN:VCALENDAR
PRODID:-//kirchenweb.ch gmbh//veranstaltungsausgabe v2.0//DE
VERSION:2.0
METHOD:PUBLISH
BEGIN:VEVENT
DTSTART:20260505T163000Z
DTEND:20260505T180000Z
LOCATION:Kath. Kirche St. Josef\, Seewadelstrasse 13\, 8910 Affoltern am
  Albis
TRANSP:OPAQUE
SEQUENCE:0
UID:5333-veranstaltung@kath-affoltern.ch
DTSTAMP:20260415T101505Z
DESCRIPTION:Kontakt: Claudia Bruckner\n\nWeitere Infos:
  https://www.kath-affoltern.ch/veranstaltung/5333
SUMMARY:Firmkurs 2025/26 Treffen
PRIORITY:5
X-MICROSOFT-CDO-IMPORTANCE:1
CLASS:PUBLIC
END:VEVENT
END:VCALENDAR
