BEGIN:VCALENDAR
PRODID:-//kirchenweb.ch gmbh//veranstaltungsausgabe v2.0//DE
VERSION:2.0
METHOD:PUBLISH
BEGIN:VEVENT
DTSTART:20260512T100000Z
DTEND:20260512T120000Z
LOCATION:Chilehuus Hedingen\, Oberdorfstrasse 1\, 8908 Hedingen
TRANSP:OPAQUE
SEQUENCE:0
UID:5396-veranstaltung@kath-affoltern.ch
DTSTAMP:20250619T072328Z
DESCRIPTION:Kontakt: Maria de León\, Mobil 078 614 24 76\n\nWeitere
  Infos: https://www.kath-affoltern.ch/veranstaltung/5396
SUMMARY:Katechese - Begegnung 2. Klasse Hedingen
PRIORITY:5
X-MICROSOFT-CDO-IMPORTANCE:1
CLASS:PUBLIC
END:VEVENT
END:VCALENDAR
