BEGIN:VCALENDAR
PRODID:-//kirchenweb.ch gmbh//veranstaltungsausgabe v2.0//DE
VERSION:2.0
METHOD:PUBLISH
BEGIN:VEVENT
DTSTART:20260511T140000Z
DTEND:20260511T153000Z
LOCATION:Kath. Kirche St. Josef\, Seewadelstrasse 13\, 8910 Affoltern am
  Albis
TRANSP:OPAQUE
SEQUENCE:0
UID:5399-veranstaltung@kath-affoltern.ch
DTSTAMP:20260303T090836Z
DESCRIPTION:Kontakt: Maria de Leòn\, Mobil 078 614 24 76\n\nWeitere
  Infos: https://www.kath-affoltern.ch/veranstaltung/5399
SUMMARY:Katechese - Begegnung 4. Klasse Affoltern
PRIORITY:5
X-MICROSOFT-CDO-IMPORTANCE:1
CLASS:PUBLIC
END:VEVENT
END:VCALENDAR
