BEGIN:VCALENDAR
PRODID:-//kirchenweb.ch gmbh//veranstaltungsausgabe v2.0//DE
VERSION:2.0
METHOD:PUBLISH
BEGIN:VEVENT
DTSTART:20260615T143000Z
DTEND:20260615T160000Z
LOCATION:Kath. Kirche St. Josef\, Seewadelstrasse 13\, 8910 Affoltern am
  Albis
TRANSP:OPAQUE
SEQUENCE:0
UID:5406-veranstaltung@kath-affoltern.ch
DTSTAMP:20250619T085424Z
DESCRIPTION:Kontakt: Maria de León\, Tel. 078 614 24 76\n\nWeitere Infos:
  https://www.kath-affoltern.ch/veranstaltung/5406
SUMMARY:Katechese - Begegnung 4. Klasse Versöhnungs-Vorbereitung
  Affoltern / Hedingen / Obfelden findet in Affoltern statt!
PRIORITY:5
X-MICROSOFT-CDO-IMPORTANCE:1
CLASS:PUBLIC
END:VEVENT
END:VCALENDAR
