BEGIN:VCALENDAR
PRODID:-//kirchenweb.ch gmbh//veranstaltungsausgabe v2.0//DE
VERSION:2.0
METHOD:PUBLISH
BEGIN:VEVENT
DTSTART:20260419T163000Z
DTEND:20260419T173000Z
LOCATION:Kath. Kirche St. Josef\, Seewadelstrasse 13\, 8910 Affoltern am
  Albis
TRANSP:OPAQUE
SEQUENCE:0
UID:5729-veranstaltung@kath-affoltern.ch
DTSTAMP:20260410T130453Z
DESCRIPTION:Kontakt: Pietro Baciu MCLI\n\nWeitere Infos:
  https://www.kath-affoltern.ch/veranstaltung/5729
SUMMARY:Santa Messa in Affoltern
PRIORITY:5
X-MICROSOFT-CDO-IMPORTANCE:1
CLASS:PUBLIC
END:VEVENT
END:VCALENDAR
