BEGIN:VCALENDAR
PRODID:-//kirchenweb.ch gmbh//veranstaltungsausgabe v2.0//DE
VERSION:2.0
METHOD:PUBLISH
BEGIN:VEVENT
DTSTART:20260504T133000Z
DTEND:20260504T144500Z
LOCATION:Kath. Kirche St. Josef\, Seewadelstrasse 13\, 8910 Affoltern am
  Albis
TRANSP:OPAQUE
SEQUENCE:0
UID:6171-veranstaltung@kath-affoltern.ch
DTSTAMP:20250918T074529Z
DESCRIPTION:Kontakt: Annelie Baumhüter\n\nWeitere Infos:
  https://www.kath-affoltern.ch/veranstaltung/6171
SUMMARY:1. Klasse
PRIORITY:5
X-MICROSOFT-CDO-IMPORTANCE:1
CLASS:PUBLIC
END:VEVENT
END:VCALENDAR
