BEGIN:VCALENDAR
PRODID:-//kirchenweb.ch gmbh//veranstaltungsausgabe v2.0//DE
VERSION:2.0
METHOD:PUBLISH
BEGIN:VEVENT
DTSTART:20260812T170000Z
DTEND:20260812T190000Z
LOCATION:Kath. Kirche St. Josef\, Seewadelstrasse 13\, 8910 Affoltern am
  Albis
TRANSP:OPAQUE
SEQUENCE:0
UID:6390-veranstaltung@kath-affoltern.ch
DTSTAMP:20250929T071447Z
DESCRIPTION:Tanzen ist wie eine Massage für die Seele!\n\nMitbringen:
  Freude an der Bewegung und Musik\, Bequeme Kleidung und wenn vorhanden
  Tanzschuhe.\n\n\n\n\n\nKontakt: Claudia Schüpbach\n\nWeitere Infos:
  https://www.kath-affoltern.ch/veranstaltung/6390
SUMMARY:Spirit in Motion -Meditatives Tanzen-
PRIORITY:5
X-MICROSOFT-CDO-IMPORTANCE:1
CLASS:PUBLIC
END:VEVENT
END:VCALENDAR
