BEGIN:VCALENDAR
PRODID:-//kirchenweb.ch gmbh//veranstaltungsausgabe v2.0//DE
VERSION:2.0
METHOD:PUBLISH
BEGIN:VEVENT
DTSTART:20260419T150000Z
DTEND:20260419T160000Z
LOCATION:Kath. Kirche St. Josef\, Seewadelstrasse 13\, 8910 Affoltern am
  Albis
TRANSP:OPAQUE
SEQUENCE:0
UID:6400-veranstaltung@kath-affoltern.ch
DTSTAMP:20260410T130506Z
DESCRIPTION:Kontakt: Katholische Kroaten Mission \nHrvatska katolička
  misija\nSchlossgasse 32\, 8003 Zürich\nTel. 044 - 455 80 60 \n\n
 \nWeitere Infos: https://www.kath-affoltern.ch/veranstaltung/6400
SUMMARY:Eucharistiefeier für die Kroaten
PRIORITY:5
X-MICROSOFT-CDO-IMPORTANCE:1
CLASS:PUBLIC
END:VEVENT
END:VCALENDAR
