BEGIN:VCALENDAR
PRODID:-//kirchenweb.ch gmbh//veranstaltungsausgabe v2.0//DE
VERSION:2.0
METHOD:PUBLISH
BEGIN:VEVENT
DTSTART:20260507T063000Z
DTEND:20260507T100000Z
LOCATION:Kath. Kirche St. Josef\, Seewadelstrasse 13\, 8910 Affoltern am
  Albis
TRANSP:OPAQUE
SEQUENCE:0
UID:6542-veranstaltung@kath-affoltern.ch
DTSTAMP:20251029T101055Z
DESCRIPTION:Kontakt: angelika.stark@kath-affoltern.ch\n\nWeitere Infos:
  https://www.kath-affoltern.ch/veranstaltung/6542
SUMMARY:Atemgymnastik mit Rosmarie Grünenfelder
PRIORITY:5
X-MICROSOFT-CDO-IMPORTANCE:1
CLASS:PUBLIC
END:VEVENT
END:VCALENDAR
