BEGIN:VCALENDAR
PRODID:-//kirchenweb.ch gmbh//veranstaltungsausgabe v2.0//DE
VERSION:2.0
METHOD:PUBLISH
BEGIN:VEVENT
DTSTART:20260428T073000Z
DTEND:20260428T090000Z
LOCATION:Kath. Kirche St. Josef\, Seewadelstrasse 13\, 8910 Affoltern am
  Albis
TRANSP:OPAQUE
SEQUENCE:0
UID:6580-veranstaltung@kath-affoltern.ch
DTSTAMP:20251029T101317Z
DESCRIPTION:Bei diesem Kurs handelt es sich um einen fortlaufenden Kurs\,
  welcher das ganze Jahr angeboten wird. In Tanzgruppen lernen Sie
  verschiedene Tänze aus der ganzen Welt kennen.\n\nKontakt: Pro Senectute
  Kanton Zürich\nClaudia Modric\nTelefon: 058 451 51 85\n\nWeitere Infos:
  https://www.kath-affoltern.ch/veranstaltung/6580
SUMMARY:Internationale Tänze Affoltern a. A.
PRIORITY:5
X-MICROSOFT-CDO-IMPORTANCE:1
CLASS:PUBLIC
END:VEVENT
END:VCALENDAR
