BEGIN:VCALENDAR
PRODID:-//kirchenweb.ch gmbh//veranstaltungsausgabe v2.0//DE
VERSION:2.0
METHOD:PUBLISH
BEGIN:VEVENT
DTSTART:20261009T180000Z
DTEND:20261009T190000Z
LOCATION:Reformierte Kirche Affoltern \, Zürichstrasse 94\, 8910
  Affoltern am Albis
TRANSP:OPAQUE
SEQUENCE:0
UID:7122-veranstaltung@kath-affoltern.ch
DTSTAMP:20260114T084542Z
DESCRIPTION:Meditatives Singen\, ein biblischer Text\, Stille\, Gebet und
  Kerzenschein machen die stimmungsvollen Taizé-Gottesdienste aus. \nIn
  dieser ruhigen Atmosphäre können wir zur Besinnung kommen\, Kraft
  schöpfen und Gott im Gebet nahe sein.\n\nKontakt:
  romy.bill1@kath-affoltern.ch\n\nWeitere Infos:
  https://www.kath-affoltern.ch/veranstaltung/7122
SUMMARY:Taizé-Feier in der ref. Kirche
PRIORITY:5
X-MICROSOFT-CDO-IMPORTANCE:1
CLASS:PUBLIC
END:VEVENT
END:VCALENDAR
