BEGIN:VCALENDAR
PRODID:-//kirchenweb.ch gmbh//veranstaltungsausgabe v2.0//DE
VERSION:2.0
METHOD:PUBLISH
BEGIN:VEVENT
DTSTART:20260422T100000Z
DTEND:20260422T160000Z
LOCATION:Kirchenhaus Obfelden\, \,
TRANSP:OPAQUE
SEQUENCE:0
UID:7249-veranstaltung@kath-affoltern.ch
DTSTAMP:20260225T082915Z
DESCRIPTION:Kontakt: romy.bill1@kath-affoltern.ch\n\nWeitere Infos:
  https://www.kath-affoltern.ch/veranstaltung/7249
SUMMARY:Seniorenanlass
PRIORITY:5
X-MICROSOFT-CDO-IMPORTANCE:1
CLASS:PUBLIC
END:VEVENT
END:VCALENDAR
