BEGIN:VCALENDAR
PRODID:-//kirchenweb.ch gmbh//veranstaltungsausgabe v2.0//DE
VERSION:2.0
METHOD:PUBLISH
BEGIN:VEVENT
DTSTART:20260517T094500Z
DTEND:20260517T103000Z
LOCATION:Kath. Kirche St. Antonius\, \,
TRANSP:OPAQUE
SEQUENCE:0
UID:7262-veranstaltung@kath-affoltern.ch
DTSTAMP:20260305T075437Z
DESCRIPTION:Kontakt: Paulo Costa\n\nWeitere Infos:
  https://www.kath-affoltern.ch/veranstaltung/7262
SUMMARY:Taufe
PRIORITY:5
X-MICROSOFT-CDO-IMPORTANCE:1
CLASS:PUBLIC
END:VEVENT
END:VCALENDAR
