BEGIN:VCALENDAR
PRODID:-//kirchenweb.ch gmbh//veranstaltungsausgabe v2.0//DE
VERSION:2.0
METHOD:PUBLISH
BEGIN:VEVENT
DTSTART:20260429T083000Z
DTEND:20260429T093000Z
LOCATION:Kath. Kirche St. Josef\, Seewadelstrasse 13\, 8910 Affoltern am
  Albis
TRANSP:OPAQUE
SEQUENCE:0
UID:7385-veranstaltung@kath-affoltern.ch
DTSTAMP:20260311T082307Z
DESCRIPTION:Kontakt: Pro Senectute Kanton Zürich \nTelefon +41 58 451 51
  35 \nwww.pszh.ch \n\n\nWeitere Infos:
  https://www.kath-affoltern.ch/veranstaltung/7385
SUMMARY:Qi Gong Affoltern a. A.
PRIORITY:5
X-MICROSOFT-CDO-IMPORTANCE:1
CLASS:PUBLIC
END:VEVENT
END:VCALENDAR
