BEGIN:VCALENDAR
PRODID:-//kirchenweb.ch gmbh//veranstaltungsausgabe v2.0//DE
VERSION:2.0
METHOD:PUBLISH
BEGIN:VEVENT
DTSTART:20260422T160000Z
DTEND:20260422T193000Z
LOCATION:Kath. Kirche St. Josef\, Seewadelstrasse 13\, 8910 Affoltern am
  Albis
TRANSP:OPAQUE
SEQUENCE:0
UID:7402-veranstaltung@kath-affoltern.ch
DTSTAMP:20260316T081930Z
DESCRIPTION:Kontakt: allgemeine.vorlagen@kath-affoltern.ch\n\nWeitere
  Infos: https://www.kath-affoltern.ch/veranstaltung/7402
SUMMARY:Italienischkurs mit Ivana Anderegg
PRIORITY:5
X-MICROSOFT-CDO-IMPORTANCE:1
CLASS:PUBLIC
END:VEVENT
END:VCALENDAR
