BEGIN:VCALENDAR
PRODID:-//kirchenweb.ch gmbh//veranstaltungsausgabe v2.0//DE
VERSION:2.0
METHOD:PUBLISH
BEGIN:VEVENT
DTSTART:20260505T085000Z
DTEND:20260505T093000Z
LOCATION:Kath. Kirche St. Josef\, Seewadelstrasse 13\, 8910 Affoltern am
  Albis
TRANSP:OPAQUE
SEQUENCE:0
UID:7468-veranstaltung@kath-affoltern.ch
DTSTAMP:20260327T131617Z
DESCRIPTION:Kontakt: Antonia Nardone \n\nWeitere Infos:
  https://www.kath-affoltern.ch/veranstaltung/7468
SUMMARY:Klavierinstitut Frédéric Chopin
PRIORITY:5
X-MICROSOFT-CDO-IMPORTANCE:1
CLASS:PUBLIC
END:VEVENT
END:VCALENDAR
