BEGIN:VCALENDAR
PRODID:-//kirchenweb.ch gmbh//veranstaltungsausgabe v2.0//DE
VERSION:2.0
METHOD:PUBLISH
BEGIN:VEVENT
DTSTART:20260527T063000Z
DTEND:20260527T071500Z
LOCATION:Kath. Kirche St. Josef\, Seewadelstrasse 13\, 8910 Affoltern am
  Albis
TRANSP:OPAQUE
SEQUENCE:0
UID:7576-veranstaltung@kath-affoltern.ch
DTSTAMP:20260413T103903Z
DESCRIPTION:Kontakt: allgemeine.vorlagen@kath-affoltern.ch\n\nWeitere
  Infos: https://www.kath-affoltern.ch/veranstaltung/7576
SUMMARY:Rosenkranzgebet im Marienmonat Mai
PRIORITY:5
X-MICROSOFT-CDO-IMPORTANCE:1
CLASS:PUBLIC
END:VEVENT
END:VCALENDAR
