BEGIN:VCALENDAR
PRODID:-//kirchenweb.ch gmbh//veranstaltungsausgabe v2.0//DE
VERSION:2.0
METHOD:PUBLISH
BEGIN:VEVENT
DTSTART:20260613T120000Z
DTEND:20260613T140000Z
LOCATION:Kapelle Jonental\, \,
TRANSP:OPAQUE
SEQUENCE:0
UID:7584-veranstaltung@kath-affoltern.ch
DTSTAMP:20260415T092359Z
DESCRIPTION:Die MCLI lädt ein zur Wallfahrt in die Kapelle Jonental. 
 \nBei schlechtem Wetter findet der Gottesdienst um 17.30 Uhr in der Kirche
  St. Antonius in Obfelden statt. \n\nKontakt: Pietro Baciu MCLI\n\nWeitere
  Infos: https://www.kath-affoltern.ch/veranstaltung/7584
SUMMARY:MCLI Wallfahrt Kapelle Jonental
PRIORITY:5
X-MICROSOFT-CDO-IMPORTANCE:1
CLASS:PUBLIC
END:VEVENT
END:VCALENDAR
