BEGIN:VCALENDAR
PRODID:-//kirchenweb.ch gmbh//veranstaltungsausgabe v2.0//DE
VERSION:2.0
METHOD:PUBLISH
BEGIN:VEVENT
DTSTART:20260507T153000Z
DTEND:20260507T163000Z
LOCATION:Kath. Kirche St. Josef\, \,
TRANSP:OPAQUE
SEQUENCE:0
UID:7588-veranstaltung@kath-affoltern.ch
DTSTAMP:20260416T152153Z
DESCRIPTION:Rosario (Rosenkranz)\n\nKontakt:
  rosanna.colucci@kath-affoltern.ch\n\nWeitere Infos:
  https://www.kath-affoltern.ch/veranstaltung/7588
SUMMARY:Rosario
PRIORITY:5
X-MICROSOFT-CDO-IMPORTANCE:1
CLASS:PUBLIC
END:VEVENT
END:VCALENDAR
